BEGIN:VCALENDAR
VERSION:2.0
PRODID:-//Erasmus University Rotterdam//Event calender//EN
X-WR-TIMEZONE:Europe/Amsterdam
X-WR-CALNAME:Erasmus University Rotterdam - Event calender
BEGIN:VTIMEZONE
TZID:Europe/Amsterdam
X-LIC-LOCATION:Europe/Amsterdam
BEGIN:DAYLIGHT
TZOFFSETFROM:+0100
TZOFFSETTO:+0200
TZNAME:CEST
DTSTART:19700329T020000
RRULE:FREQ=YEARLY;BYMONTH=3;BYDAY=-1SU
END:DAYLIGHT
BEGIN:STANDARD
TZOFFSETFROM:+0200
TZOFFSETTO:+0100
TZNAME:CET
DTSTART:19701025T030000
RRULE:FREQ=YEARLY;BYMONTH=10;BYDAY=-1SU
END:STANDARD
END:VTIMEZONE
BEGIN:VEVENT
DTSTART;TZID=Europe/Amsterdam:20240516T120000
DTEND;TZID=Europe/Amsterdam:20240516T130000
DTSTAMP:20260425T172840Z
UID:MTcxNTg1MzYwMF8xNzE1ODU3MjAwX0V4dGVuZGluZyB0aGUgU2NvcGUgb2YgSW5mZXJlbmNlIEFib3V0IFByZWRpY3RpdmUgQWJpbGl0eSB0byBNYWNoaW5lIExlYXJuaW5nIE1ldGhvZHM=
SUMMARY:Extending the Scope of Inference About Predictive Ability to Machine Learning Methods
DESCRIPTION:For more information see https://www.eur.nl/en/events/extending-scope-inference-about-predictive-ability-machine-learning-methods-2024-05-16
LOCATION:Room: ET-14 | Building: E Building | Location: Campus Woudestein
END:VEVENT
END:VCALENDAR
