BEGIN:VCALENDAR
VERSION:2.0
PRODID:-//Erasmus University Rotterdam//Event calender//EN
X-WR-TIMEZONE:Europe/Amsterdam
X-WR-CALNAME:Erasmus University Rotterdam - Event calender
BEGIN:VTIMEZONE
TZID:Europe/Amsterdam
X-LIC-LOCATION:Europe/Amsterdam
BEGIN:DAYLIGHT
TZOFFSETFROM:+0100
TZOFFSETTO:+0200
TZNAME:CEST
DTSTART:19700329T020000
RRULE:FREQ=YEARLY;BYMONTH=3;BYDAY=-1SU
END:DAYLIGHT
BEGIN:STANDARD
TZOFFSETFROM:+0200
TZOFFSETTO:+0100
TZNAME:CET
DTSTART:19701025T030000
RRULE:FREQ=YEARLY;BYMONTH=10;BYDAY=-1SU
END:STANDARD
END:VTIMEZONE
BEGIN:VEVENT
DTSTART;TZID=Europe/Amsterdam:20260104T090000
DTEND;TZID=Europe/Amsterdam:20260104T180000
DTSTAMP:20260420T060536Z
UID:MTc2NzUxMzYwMF8xNzY3NTQ2MDAwX1BpZXQgRGllbGVtYW4gLSBTeXN0ZW1lbiBpbiBTdHJ1Y3R1dXI=
SUMMARY:Piet Dieleman - Systemen in Structuur
DESCRIPTION:For more information see https://www.eur.nl/evenementen/piet-dieleman-systemen-structuur-2026-01-04
LOCATION:Room: AB-57 | Space: Erasmus Gallery | Building: Erasmus Building | Location: Campus Woudestein
END:VEVENT
END:VCALENDAR
