BEGIN:VCALENDAR
VERSION:2.0
PRODID:-//Erasmus University Rotterdam//Event calender//EN
X-WR-TIMEZONE:Europe/Amsterdam
X-WR-CALNAME:Erasmus University Rotterdam - Event calender
BEGIN:VTIMEZONE
TZID:Europe/Amsterdam
X-LIC-LOCATION:Europe/Amsterdam
BEGIN:DAYLIGHT
TZOFFSETFROM:+0100
TZOFFSETTO:+0200
TZNAME:CEST
DTSTART:19700329T020000
RRULE:FREQ=YEARLY;BYMONTH=3;BYDAY=-1SU
END:DAYLIGHT
BEGIN:STANDARD
TZOFFSETFROM:+0200
TZOFFSETTO:+0100
TZNAME:CET
DTSTART:19701025T030000
RRULE:FREQ=YEARLY;BYMONTH=10;BYDAY=-1SU
END:STANDARD
END:VTIMEZONE
BEGIN:VEVENT
DTSTART;TZID=Europe/Amsterdam:20260520T200000
DTEND;TZID=Europe/Amsterdam:20260520T211500
DTSTAMP:20260423T150543Z
UID:MTc3OTMwMDAwMF8xNzc5MzA0NTAwX0Nvbm55IEphbnNzZW4gRGFuc3Qg4oCTIE5FWFQjMw==
SUMMARY:Conny Janssen Danst – NEXT#3
DESCRIPTION:Ga voor meer informatie naar https://www.eur.nl/evenementen/conny-janssen-danst-next3-2026-05-20
LOCATION:Locatie: Erasmus Paviljoen Theater
END:VEVENT
END:VCALENDAR
