BEGIN:VCALENDAR
VERSION:2.0
PRODID:-//Erasmus University Rotterdam//Event calender//EN
X-WR-TIMEZONE:Europe/Amsterdam
X-WR-CALNAME:Erasmus University Rotterdam - Event calender
BEGIN:VTIMEZONE
TZID:Europe/Amsterdam
X-LIC-LOCATION:Europe/Amsterdam
BEGIN:DAYLIGHT
TZOFFSETFROM:+0100
TZOFFSETTO:+0200
TZNAME:CEST
DTSTART:19700329T020000
RRULE:FREQ=YEARLY;BYMONTH=3;BYDAY=-1SU
END:DAYLIGHT
BEGIN:STANDARD
TZOFFSETFROM:+0200
TZOFFSETTO:+0100
TZNAME:CET
DTSTART:19701025T030000
RRULE:FREQ=YEARLY;BYMONTH=10;BYDAY=-1SU
END:STANDARD
END:VTIMEZONE
BEGIN:VEVENT
DTSTART;TZID=Europe/Amsterdam:20180626T133017
DTEND;TZID=Europe/Amsterdam:20180626T153001
DTSTAMP:20260424T103742Z
UID:MTUzMDAxMjYxN18xNTMwMDE5ODAxX1Byb21vdGllIEwuRy5NLiBDcmVtZXJz
SUMMARY:Promotie L.G.M. Cremers
DESCRIPTION:For more information see https://www.eur.nl/evenementen/promotie-lgm-cremers-2018-06-26
LOCATION:Room: Prof.dr. Andries Querido zaal - Onderwijscentrum | Location: Erasmus MC
END:VEVENT
END:VCALENDAR
