BEGIN:VCALENDAR
VERSION:2.0
PRODID:-//Erasmus University Rotterdam//Event calender//EN
X-WR-TIMEZONE:Europe/Amsterdam
X-WR-CALNAME:Erasmus University Rotterdam - Event calender
BEGIN:VTIMEZONE
TZID:Europe/Amsterdam
X-LIC-LOCATION:Europe/Amsterdam
BEGIN:DAYLIGHT
TZOFFSETFROM:+0100
TZOFFSETTO:+0200
TZNAME:CEST
DTSTART:19700329T020000
RRULE:FREQ=YEARLY;BYMONTH=3;BYDAY=-1SU
END:DAYLIGHT
BEGIN:STANDARD
TZOFFSETFROM:+0200
TZOFFSETTO:+0100
TZNAME:CET
DTSTART:19701025T030000
RRULE:FREQ=YEARLY;BYMONTH=10;BYDAY=-1SU
END:STANDARD
END:VTIMEZONE
BEGIN:VEVENT
DTSTART;TZID=Europe/Amsterdam:20180904T153032
DTEND;TZID=Europe/Amsterdam:20180904T173057
DTSTAMP:20260422T082241Z
UID:MTUzNjA2NzgzMl8xNTM2MDc1MDU3X1Byb21vdGllIFMuTS4gQmlzb24=
SUMMARY:Promotie S.M. Bison
DESCRIPTION:For more information see https://www.eur.nl/evenementen/promotie-sm-bison-2018-09-04
LOCATION:Space: Professor Andries Querido room | Location: Erasmus MC
END:VEVENT
END:VCALENDAR
