BEGIN:VCALENDAR
VERSION:2.0
PRODID:-//Erasmus University Rotterdam//Event calender//EN
X-WR-TIMEZONE:Europe/Amsterdam
X-WR-CALNAME:Erasmus University Rotterdam - Event calender
BEGIN:VTIMEZONE
TZID:Europe/Amsterdam
X-LIC-LOCATION:Europe/Amsterdam
BEGIN:DAYLIGHT
TZOFFSETFROM:+0100
TZOFFSETTO:+0200
TZNAME:CEST
DTSTART:19700329T020000
RRULE:FREQ=YEARLY;BYMONTH=3;BYDAY=-1SU
END:DAYLIGHT
BEGIN:STANDARD
TZOFFSETFROM:+0200
TZOFFSETTO:+0100
TZNAME:CET
DTSTART:19701025T030000
RRULE:FREQ=YEARLY;BYMONTH=10;BYDAY=-1SU
END:STANDARD
END:VTIMEZONE
BEGIN:VEVENT
DTSTART;TZID=Europe/Amsterdam:20181004T140000
DTEND;TZID=Europe/Amsterdam:20181004T180000
DTSTAMP:20260424T063445Z
UID:MTUzODY1NDQwMF8xNTM4NjY4ODAwX1N0dWR5aW5nICYgSW50ZXJuc2hpcHMgQWJyb2FkIEZhaXIg
SUMMARY:Studying &amp; Internships Abroad Fair 
DESCRIPTION:Ga voor meer informatie naar https://www.eur.nl/evenementen/studying-internships-abroad-fair-2018-10-04
LOCATION:Kamer: Theil Building (C-hal)
END:VEVENT
END:VCALENDAR
