BEGIN:VCALENDAR
VERSION:2.0
PRODID:-//Erasmus University Rotterdam//Event calender//EN
X-WR-TIMEZONE:Europe/Amsterdam
X-WR-CALNAME:Erasmus University Rotterdam - Event calender
BEGIN:VTIMEZONE
TZID:Europe/Amsterdam
X-LIC-LOCATION:Europe/Amsterdam
BEGIN:DAYLIGHT
TZOFFSETFROM:+0100
TZOFFSETTO:+0200
TZNAME:CEST
DTSTART:19700329T020000
RRULE:FREQ=YEARLY;BYMONTH=3;BYDAY=-1SU
END:DAYLIGHT
BEGIN:STANDARD
TZOFFSETFROM:+0200
TZOFFSETTO:+0100
TZNAME:CET
DTSTART:19701025T030000
RRULE:FREQ=YEARLY;BYMONTH=10;BYDAY=-1SU
END:STANDARD
END:VTIMEZONE
BEGIN:VEVENT
DTSTART;TZID=Europe/Amsterdam:20181115T090031
DTEND;TZID=Europe/Amsterdam:20181116T164557
DTSTAMP:20260421T134512Z
UID:MTU0MjI2ODgzMV8xNTQyMzgzMTU3X1dvcmtpbmcgY29uZmVyZW5jZSB2aXN1YWxpemF0aW9ucyAmIGxhdw==
SUMMARY:Working conference visualizations &amp; law
DESCRIPTION:For more information see https://www.eur.nl/evenementen/working-conference-visualizations-law-2018-11-15
LOCATION:Location: Campus Woudestein
END:VEVENT
END:VCALENDAR
