BEGIN:VCALENDAR
VERSION:2.0
PRODID:-//Erasmus University Rotterdam//Event calender//EN
X-WR-TIMEZONE:Europe/Amsterdam
X-WR-CALNAME:Erasmus University Rotterdam - Event calender
BEGIN:VTIMEZONE
TZID:Europe/Amsterdam
X-LIC-LOCATION:Europe/Amsterdam
BEGIN:DAYLIGHT
TZOFFSETFROM:+0100
TZOFFSETTO:+0200
TZNAME:CEST
DTSTART:19700329T020000
RRULE:FREQ=YEARLY;BYMONTH=3;BYDAY=-1SU
END:DAYLIGHT
BEGIN:STANDARD
TZOFFSETFROM:+0200
TZOFFSETTO:+0100
TZNAME:CET
DTSTART:19701025T030000
RRULE:FREQ=YEARLY;BYMONTH=10;BYDAY=-1SU
END:STANDARD
END:VTIMEZONE
BEGIN:VEVENT
DTSTART;TZID=Europe/Amsterdam:20181016T153000
DTEND;TZID=Europe/Amsterdam:20181016T173000
DTSTAMP:20260424T153136Z
UID:MTUzOTY5NjYwMF8xNTM5NzAzODAwX1Byb21vdGllIEkuRy5QLiBHZWVsZW4=
SUMMARY:Promotie I.G.P. Geelen
DESCRIPTION:For more information see https://www.eur.nl/evenementen/promotie-igp-geelen-2018-10-16
LOCATION:Space: Professor Andries Querido room | Location: Erasmus MC
END:VEVENT
END:VCALENDAR
