BEGIN:VCALENDAR
VERSION:2.0
PRODID:-//Erasmus University Rotterdam//Event calender//EN
X-WR-TIMEZONE:Europe/Amsterdam
X-WR-CALNAME:Erasmus University Rotterdam - Event calender
BEGIN:VTIMEZONE
TZID:Europe/Amsterdam
X-LIC-LOCATION:Europe/Amsterdam
BEGIN:DAYLIGHT
TZOFFSETFROM:+0100
TZOFFSETTO:+0200
TZNAME:CEST
DTSTART:19700329T020000
RRULE:FREQ=YEARLY;BYMONTH=3;BYDAY=-1SU
END:DAYLIGHT
BEGIN:STANDARD
TZOFFSETFROM:+0200
TZOFFSETTO:+0100
TZNAME:CET
DTSTART:19701025T030000
RRULE:FREQ=YEARLY;BYMONTH=10;BYDAY=-1SU
END:STANDARD
END:VTIMEZONE
BEGIN:VEVENT
DTSTART;TZID=Europe/Amsterdam:20181129T090000
DTEND;TZID=Europe/Amsterdam:20181129T130000
DTSTAMP:20260425T201352Z
UID:MTU0MzQ3ODQwMF8xNTQzNDkyODAwX1NoYXJlZCBhbmQgb24tZGVtYW5kIHB1YmxpYyB0cmFuc3BvcnQgc3lzdGVtcw==
SUMMARY:Shared and on-demand public transport systems
DESCRIPTION:For more information see https://www.eur.nl/en/events/shared-and-demand-public-transport-systems-2018-11-29
LOCATION:Room: Tokyo (M1-17) | Building: Van der Goot Building | Location: Campus Woudestein
END:VEVENT
END:VCALENDAR
