BEGIN:VCALENDAR
VERSION:2.0
PRODID:-//Erasmus University Rotterdam//Event calender//EN
X-WR-TIMEZONE:Europe/Amsterdam
X-WR-CALNAME:Erasmus University Rotterdam - Event calender
BEGIN:VTIMEZONE
TZID:Europe/Amsterdam
X-LIC-LOCATION:Europe/Amsterdam
BEGIN:DAYLIGHT
TZOFFSETFROM:+0100
TZOFFSETTO:+0200
TZNAME:CEST
DTSTART:19700329T020000
RRULE:FREQ=YEARLY;BYMONTH=3;BYDAY=-1SU
END:DAYLIGHT
BEGIN:STANDARD
TZOFFSETFROM:+0200
TZOFFSETTO:+0100
TZNAME:CET
DTSTART:19701025T030000
RRULE:FREQ=YEARLY;BYMONTH=10;BYDAY=-1SU
END:STANDARD
END:VTIMEZONE
BEGIN:VEVENT
DTSTART;TZID=Europe/Amsterdam:20181113T230000
DTEND;TZID=Europe/Amsterdam:20181114T040000
DTSTAMP:20260420T202752Z
UID:MTU0MjE0NjQwMF8xNTQyMTY0NDAwX0VTTiBGbGFnIFBhcnR5IA==
SUMMARY:ESN Flag Party 
DESCRIPTION:For more information see https://www.eur.nl/en/events/esn-flag-party-2018-11-13
LOCATION:Location: The VIP Room, Rotterdam
END:VEVENT
END:VCALENDAR
