BEGIN:VCALENDAR
VERSION:2.0
PRODID:-//Erasmus University Rotterdam//Event calender//EN
X-WR-TIMEZONE:Europe/Amsterdam
X-WR-CALNAME:Erasmus University Rotterdam - Event calender
BEGIN:VTIMEZONE
TZID:Europe/Amsterdam
X-LIC-LOCATION:Europe/Amsterdam
BEGIN:DAYLIGHT
TZOFFSETFROM:+0100
TZOFFSETTO:+0200
TZNAME:CEST
DTSTART:19700329T020000
RRULE:FREQ=YEARLY;BYMONTH=3;BYDAY=-1SU
END:DAYLIGHT
BEGIN:STANDARD
TZOFFSETFROM:+0200
TZOFFSETTO:+0100
TZNAME:CET
DTSTART:19701025T030000
RRULE:FREQ=YEARLY;BYMONTH=10;BYDAY=-1SU
END:STANDARD
END:VTIMEZONE
BEGIN:VEVENT
DTSTART;TZID=Europe/Amsterdam:20181203T133034
DTEND;TZID=Europe/Amsterdam:20181203T163050
DTSTAMP:20260420T202737Z
UID:MTU0Mzg0MDIzNF8xNTQzODUxMDUwX0Jsb2NrY2hhaW46IEEgTWF0dGVyIG9mIFRydXN0Pw==
SUMMARY:Blockchain: A Matter of Trust?
DESCRIPTION:Ga voor meer informatie naar https://www.eur.nl/evenementen/blockchain-matter-trust-2018-12-03
LOCATION:Locatie: Rivium-zaal, Faculty club (17de verdieping Tinbergen gebouw, EUR-campus)
END:VEVENT
END:VCALENDAR
