BEGIN:VCALENDAR
VERSION:2.0
PRODID:-//Erasmus University Rotterdam//Event calender//EN
X-WR-TIMEZONE:Europe/Amsterdam
X-WR-CALNAME:Erasmus University Rotterdam - Event calender
BEGIN:VTIMEZONE
TZID:Europe/Amsterdam
X-LIC-LOCATION:Europe/Amsterdam
BEGIN:DAYLIGHT
TZOFFSETFROM:+0100
TZOFFSETTO:+0200
TZNAME:CEST
DTSTART:19700329T020000
RRULE:FREQ=YEARLY;BYMONTH=3;BYDAY=-1SU
END:DAYLIGHT
BEGIN:STANDARD
TZOFFSETFROM:+0200
TZOFFSETTO:+0100
TZNAME:CET
DTSTART:19701025T030000
RRULE:FREQ=YEARLY;BYMONTH=10;BYDAY=-1SU
END:STANDARD
END:VTIMEZONE
BEGIN:VEVENT
DTSTART;TZID=Europe/Amsterdam:20181207T113008
DTEND;TZID=Europe/Amsterdam:20181207T133026
DTSTAMP:20260420T202743Z
UID:MTU0NDE3ODYwOF8xNTQ0MTg1ODI2X1Byb21vdGllIEEuQy5XLiBQaWpscw==
SUMMARY:Promotie A.C.W. Pijls
DESCRIPTION:Ga voor meer informatie naar https://www.eur.nl/evenementen/promotie-acw-pijls-2018-12-07
LOCATION:Spatie: Senaatszaal | Gebouw: Erasmus Gebouw | Locatie: Campus Woudestein
END:VEVENT
END:VCALENDAR
