BEGIN:VCALENDAR
VERSION:2.0
PRODID:-//Erasmus University Rotterdam//Event calender//EN
X-WR-TIMEZONE:Europe/Amsterdam
X-WR-CALNAME:Erasmus University Rotterdam - Event calender
BEGIN:VTIMEZONE
TZID:Europe/Amsterdam
X-LIC-LOCATION:Europe/Amsterdam
BEGIN:DAYLIGHT
TZOFFSETFROM:+0100
TZOFFSETTO:+0200
TZNAME:CEST
DTSTART:19700329T020000
RRULE:FREQ=YEARLY;BYMONTH=3;BYDAY=-1SU
END:DAYLIGHT
BEGIN:STANDARD
TZOFFSETFROM:+0200
TZOFFSETTO:+0100
TZNAME:CET
DTSTART:19701025T030000
RRULE:FREQ=YEARLY;BYMONTH=10;BYDAY=-1SU
END:STANDARD
END:VTIMEZONE
BEGIN:VEVENT
DTSTART;TZID=Europe/Amsterdam:20190130T093053
DTEND;TZID=Europe/Amsterdam:20190130T113010
DTSTAMP:20260425T185907Z
UID:MTU0ODgzNzA1M18xNTQ4ODQ0MjEwX1Byb21vdGllIE8uSi5GLiB2YW4gV2Flcw==
SUMMARY:Promotie O.J.F. van Waes
DESCRIPTION:For more information see https://www.eur.nl/evenementen/promotie-ojf-van-waes-2019-01-30-0
LOCATION:Space: Professor Andries Querido room | Building: Education Center | Location: Erasmus MC
END:VEVENT
END:VCALENDAR
