BEGIN:VCALENDAR
VERSION:2.0
PRODID:-//Erasmus University Rotterdam//Event calender//EN
X-WR-TIMEZONE:Europe/Amsterdam
X-WR-CALNAME:Erasmus University Rotterdam - Event calender
BEGIN:VTIMEZONE
TZID:Europe/Amsterdam
X-LIC-LOCATION:Europe/Amsterdam
BEGIN:DAYLIGHT
TZOFFSETFROM:+0100
TZOFFSETTO:+0200
TZNAME:CEST
DTSTART:19700329T020000
RRULE:FREQ=YEARLY;BYMONTH=3;BYDAY=-1SU
END:DAYLIGHT
BEGIN:STANDARD
TZOFFSETFROM:+0200
TZOFFSETTO:+0100
TZNAME:CET
DTSTART:19701025T030000
RRULE:FREQ=YEARLY;BYMONTH=10;BYDAY=-1SU
END:STANDARD
END:VTIMEZONE
BEGIN:VEVENT
DTSTART;TZID=Europe/Amsterdam:20190522T093012
DTEND;TZID=Europe/Amsterdam:20190522T123000
DTSTAMP:20260423T025811Z
UID:MTU1ODUxMDIxMl8xNTU4NTIxMDAwX0FwcGxpY2F0aW9uIGxldHRlciBhbmQgQ1Y=
SUMMARY:Application letter and CV
DESCRIPTION:For more information see https://www.eur.nl/en/events/application-letter-and-cv-2019-05-22
LOCATION:
END:VEVENT
END:VCALENDAR
