BEGIN:VCALENDAR
VERSION:2.0
PRODID:-//Erasmus University Rotterdam//Event calender//EN
X-WR-TIMEZONE:Europe/Amsterdam
X-WR-CALNAME:Erasmus University Rotterdam - Event calender
BEGIN:VTIMEZONE
TZID:Europe/Amsterdam
X-LIC-LOCATION:Europe/Amsterdam
BEGIN:DAYLIGHT
TZOFFSETFROM:+0100
TZOFFSETTO:+0200
TZNAME:CEST
DTSTART:19700329T020000
RRULE:FREQ=YEARLY;BYMONTH=3;BYDAY=-1SU
END:DAYLIGHT
BEGIN:STANDARD
TZOFFSETFROM:+0200
TZOFFSETTO:+0100
TZNAME:CET
DTSTART:19701025T030000
RRULE:FREQ=YEARLY;BYMONTH=10;BYDAY=-1SU
END:STANDARD
END:VTIMEZONE
BEGIN:VEVENT
DTSTART;TZID=Europe/Amsterdam:20190529T160049
DTEND;TZID=Europe/Amsterdam:20190529T170001
DTSTAMP:20260419T192553Z
UID:MTU1OTEzODQ0OV8xNTU5MTQyMDAxX1RhYmxlIFRhbGsgfCBUaGUgSGFwcGluZXNzIFBhcmFkb3g=
SUMMARY:Table Talk | The Happiness Paradox
DESCRIPTION:Ga voor meer informatie naar https://www.eur.nl/evenementen/table-talk-happiness-paradox-2019-05-29
LOCATION:Gebouw: Sanders Building
END:VEVENT
END:VCALENDAR
