BEGIN:VCALENDAR
VERSION:2.0
PRODID:-//Erasmus University Rotterdam//Event calender//EN
X-WR-TIMEZONE:Europe/Amsterdam
X-WR-CALNAME:Erasmus University Rotterdam - Event calender
BEGIN:VTIMEZONE
TZID:Europe/Amsterdam
X-LIC-LOCATION:Europe/Amsterdam
BEGIN:DAYLIGHT
TZOFFSETFROM:+0100
TZOFFSETTO:+0200
TZNAME:CEST
DTSTART:19700329T020000
RRULE:FREQ=YEARLY;BYMONTH=3;BYDAY=-1SU
END:DAYLIGHT
BEGIN:STANDARD
TZOFFSETFROM:+0200
TZOFFSETTO:+0100
TZNAME:CET
DTSTART:19701025T030000
RRULE:FREQ=YEARLY;BYMONTH=10;BYDAY=-1SU
END:STANDARD
END:VTIMEZONE
BEGIN:VEVENT
DTSTART;TZID=Europe/Amsterdam:20190524T133011
DTEND;TZID=Europe/Amsterdam:20190524T153027
DTSTAMP:20260420T202744Z
UID:MTU1ODY5NzQxMV8xNTU4NzA0NjI3X1BoRCBEZWZlbmNlIC0gRXZhIEVpamtlbGVuYm9vbQ==
SUMMARY:PhD Defence - Eva Eijkelenboom
DESCRIPTION:Ga voor meer informatie naar https://www.eur.nl/evenementen/phd-defence-eva-eijkelenboom-2019-05-24
LOCATION:Locatie: Erasmus University Rotterdam – Woudestein Campus – Senaatszaal (Erasmus-building)
END:VEVENT
END:VCALENDAR
