BEGIN:VCALENDAR
VERSION:2.0
PRODID:-//Erasmus University Rotterdam//Event calender//EN
X-WR-TIMEZONE:Europe/Amsterdam
X-WR-CALNAME:Erasmus University Rotterdam - Event calender
BEGIN:VTIMEZONE
TZID:Europe/Amsterdam
X-LIC-LOCATION:Europe/Amsterdam
BEGIN:DAYLIGHT
TZOFFSETFROM:+0100
TZOFFSETTO:+0200
TZNAME:CEST
DTSTART:19700329T020000
RRULE:FREQ=YEARLY;BYMONTH=3;BYDAY=-1SU
END:DAYLIGHT
BEGIN:STANDARD
TZOFFSETFROM:+0200
TZOFFSETTO:+0100
TZNAME:CET
DTSTART:19701025T030000
RRULE:FREQ=YEARLY;BYMONTH=10;BYDAY=-1SU
END:STANDARD
END:VTIMEZONE
BEGIN:VEVENT
DTSTART;TZID=Europe/Amsterdam:20180409T133025
DTEND;TZID=Europe/Amsterdam:20180409T170047
DTSTAMP:20260422T093104Z
UID:MTUyMzI3MzQyNV8xNTIzMjg2MDQ3X0Z1dHVyZSBvZiBQdWJsaWMgVHJhbnNwb3J0
SUMMARY:Future of Public Transport
DESCRIPTION:For more information see https://www.eur.nl/en/events/future-public-transport-2018-04-09
LOCATION:Room: M1-16 (Heidelberg) | Building: Van der Goot Building | Location: Campus Woudestein
END:VEVENT
END:VCALENDAR
