BEGIN:VCALENDAR
VERSION:2.0
PRODID:-//Erasmus University Rotterdam//Event calender//EN
X-WR-TIMEZONE:Europe/Amsterdam
X-WR-CALNAME:Erasmus University Rotterdam - Event calender
BEGIN:VTIMEZONE
TZID:Europe/Amsterdam
X-LIC-LOCATION:Europe/Amsterdam
BEGIN:DAYLIGHT
TZOFFSETFROM:+0100
TZOFFSETTO:+0200
TZNAME:CEST
DTSTART:19700329T020000
RRULE:FREQ=YEARLY;BYMONTH=3;BYDAY=-1SU
END:DAYLIGHT
BEGIN:STANDARD
TZOFFSETFROM:+0200
TZOFFSETTO:+0100
TZNAME:CET
DTSTART:19701025T030000
RRULE:FREQ=YEARLY;BYMONTH=10;BYDAY=-1SU
END:STANDARD
END:VTIMEZONE
BEGIN:VEVENT
DTSTART;TZID=Europe/Amsterdam:20190624T140036
DTEND;TZID=Europe/Amsterdam:20190626T171552
DTSTAMP:20260420T062714Z
UID:MTU2MTM3NzYzNl8xNTYxNTYyMTUyX0NvbmZlcmVuY2U6IFRoZSBTdHJ1Y3R1cmUgb2YgUmVhbGl0eSBhbmQgdGhlIFJlYWxpdHkgb2YgU3RydWN0dXJl
SUMMARY:Conference: The Structure of Reality and the Reality of Structure
DESCRIPTION:Ga voor meer informatie naar https://www.eur.nl/evenementen/conference-structure-reality-and-reality-structure-2019-06-24
LOCATION:Locatie: Campus Woudestein
END:VEVENT
END:VCALENDAR
