BEGIN:VCALENDAR
VERSION:2.0
PRODID:-//Erasmus University Rotterdam//Event calender//EN
X-WR-TIMEZONE:Europe/Amsterdam
X-WR-CALNAME:Erasmus University Rotterdam - Event calender
BEGIN:VTIMEZONE
TZID:Europe/Amsterdam
X-LIC-LOCATION:Europe/Amsterdam
BEGIN:DAYLIGHT
TZOFFSETFROM:+0100
TZOFFSETTO:+0200
TZNAME:CEST
DTSTART:19700329T020000
RRULE:FREQ=YEARLY;BYMONTH=3;BYDAY=-1SU
END:DAYLIGHT
BEGIN:STANDARD
TZOFFSETFROM:+0200
TZOFFSETTO:+0100
TZNAME:CET
DTSTART:19701025T030000
RRULE:FREQ=YEARLY;BYMONTH=10;BYDAY=-1SU
END:STANDARD
END:VTIMEZONE
BEGIN:VEVENT
DTSTART;TZID=Europe/Amsterdam:20190926T160059
DTEND;TZID=Europe/Amsterdam:20190926T170017
DTSTAMP:20260420T095239Z
UID:MTU2OTUwNjQ1OV8xNTY5NTEwMDE3X1N0ZXB3aXNlIFJlZ3Jlc3Npb24gRW5zZW1ibGluZw==
SUMMARY:Stepwise Regression Ensembling
DESCRIPTION:For more information see https://www.eur.nl/en/events/stepwise-regression-ensembling-2019-09-26
LOCATION:Room: 2-04 | Building: Polak Building | Location: Campus Woudestein
END:VEVENT
END:VCALENDAR
