BEGIN:VCALENDAR
VERSION:2.0
PRODID:-//Erasmus University Rotterdam//Event calender//EN
X-WR-TIMEZONE:Europe/Amsterdam
X-WR-CALNAME:Erasmus University Rotterdam - Event calender
BEGIN:VTIMEZONE
TZID:Europe/Amsterdam
X-LIC-LOCATION:Europe/Amsterdam
BEGIN:DAYLIGHT
TZOFFSETFROM:+0100
TZOFFSETTO:+0200
TZNAME:CEST
DTSTART:19700329T020000
RRULE:FREQ=YEARLY;BYMONTH=3;BYDAY=-1SU
END:DAYLIGHT
BEGIN:STANDARD
TZOFFSETFROM:+0200
TZOFFSETTO:+0100
TZNAME:CET
DTSTART:19701025T030000
RRULE:FREQ=YEARLY;BYMONTH=10;BYDAY=-1SU
END:STANDARD
END:VTIMEZONE
BEGIN:VEVENT
DTSTART;TZID=Europe/Amsterdam:20190905T093017
DTEND;TZID=Europe/Amsterdam:20190905T110043
DTSTAMP:20260420T062713Z
UID:MTU2NzY2ODYxN18xNTY3Njc0MDQzX1Byb21vdGllIEIuRS4gT3J5
SUMMARY:Promotie B.E. Ory
DESCRIPTION:For more information see https://www.eur.nl/evenementen/promotie-be-ory-2019-09-05
LOCATION:Space: Senate Hall | Building: Erasmus Building | Location: Campus Woudestein
END:VEVENT
END:VCALENDAR
