BEGIN:VCALENDAR
VERSION:2.0
PRODID:-//Erasmus University Rotterdam//Event calender//EN
X-WR-TIMEZONE:Europe/Amsterdam
X-WR-CALNAME:Erasmus University Rotterdam - Event calender
BEGIN:VTIMEZONE
TZID:Europe/Amsterdam
X-LIC-LOCATION:Europe/Amsterdam
BEGIN:DAYLIGHT
TZOFFSETFROM:+0100
TZOFFSETTO:+0200
TZNAME:CEST
DTSTART:19700329T020000
RRULE:FREQ=YEARLY;BYMONTH=3;BYDAY=-1SU
END:DAYLIGHT
BEGIN:STANDARD
TZOFFSETFROM:+0200
TZOFFSETTO:+0100
TZNAME:CET
DTSTART:19701025T030000
RRULE:FREQ=YEARLY;BYMONTH=10;BYDAY=-1SU
END:STANDARD
END:VTIMEZONE
BEGIN:VEVENT
DTSTART;TZID=Europe/Amsterdam:20191007T180014
DTEND;TZID=Europe/Amsterdam:20191007T210039
DTSTAMP:20260421T064949Z
UID:MTU3MDQ2NDAxNF8xNTcwNDc0ODM5X0xldCdzIFRhbGsgQWJvdXQgU3RyZXNzIHwgVGVkIFRhbGtz
SUMMARY:Let&#039;s Talk About Stress | Ted Talks
DESCRIPTION:For more information see https://www.eur.nl/en/events/lets-talk-about-stress-ted-talks-2019-10-07
LOCATION:Location: Communicaty for Learning Innovation (Ground floor Polak Building)
END:VEVENT
END:VCALENDAR
