BEGIN:VCALENDAR
VERSION:2.0
PRODID:-//Erasmus University Rotterdam//Event calender//EN
X-WR-TIMEZONE:Europe/Amsterdam
X-WR-CALNAME:Erasmus University Rotterdam - Event calender
BEGIN:VTIMEZONE
TZID:Europe/Amsterdam
X-LIC-LOCATION:Europe/Amsterdam
BEGIN:DAYLIGHT
TZOFFSETFROM:+0100
TZOFFSETTO:+0200
TZNAME:CEST
DTSTART:19700329T020000
RRULE:FREQ=YEARLY;BYMONTH=3;BYDAY=-1SU
END:DAYLIGHT
BEGIN:STANDARD
TZOFFSETFROM:+0200
TZOFFSETTO:+0100
TZNAME:CET
DTSTART:19701025T030000
RRULE:FREQ=YEARLY;BYMONTH=10;BYDAY=-1SU
END:STANDARD
END:VTIMEZONE
BEGIN:VEVENT
DTSTART;TZID=Europe/Amsterdam:20191219T153039
DTEND;TZID=Europe/Amsterdam:20191219T170047
DTSTAMP:20260423T093505Z
UID:MTU3Njc2NTgzOV8xNTc2NzcxMjQ3X1Byb21vdGllIFMuQS5NLiAoU3V6YW5uZSkgTGFtYnJlZ3Rz
SUMMARY:Promotie S.A.M. (Suzanne) Lambregts
DESCRIPTION:For more information see https://www.eur.nl/evenementen/promotie-sam-suzanne-lambregts-2019-12-19
LOCATION:Space: Senate Hall | Building: Erasmus Building | Location: Campus Woudestein
END:VEVENT
END:VCALENDAR
