BEGIN:VCALENDAR
VERSION:2.0
PRODID:-//Erasmus University Rotterdam//Event calender//EN
X-WR-TIMEZONE:Europe/Amsterdam
X-WR-CALNAME:Erasmus University Rotterdam - Event calender
BEGIN:VTIMEZONE
TZID:Europe/Amsterdam
X-LIC-LOCATION:Europe/Amsterdam
BEGIN:DAYLIGHT
TZOFFSETFROM:+0100
TZOFFSETTO:+0200
TZNAME:CEST
DTSTART:19700329T020000
RRULE:FREQ=YEARLY;BYMONTH=3;BYDAY=-1SU
END:DAYLIGHT
BEGIN:STANDARD
TZOFFSETFROM:+0200
TZOFFSETTO:+0100
TZNAME:CET
DTSTART:19701025T030000
RRULE:FREQ=YEARLY;BYMONTH=10;BYDAY=-1SU
END:STANDARD
END:VTIMEZONE
BEGIN:VEVENT
DTSTART;TZID=Europe/Amsterdam:20200120T130017
DTEND;TZID=Europe/Amsterdam:20200120T170043
DTSTAMP:20260423T162959Z
UID:MTU3OTUyMTYxN18xNTc5NTM2MDQzX0luY2x1c2llIGluIGhvZ2VyIG9uZGVyd2lqcw==
SUMMARY:Inclusie in hoger onderwijs
DESCRIPTION:For more information see https://www.eur.nl/evenementen/inclusie-hoger-onderwijs-2020-01-20
LOCATION:Location: Trippenhuis, Kloveniersburgwal 29, 1011 JV Amsterdam
END:VEVENT
END:VCALENDAR
