BEGIN:VCALENDAR
VERSION:2.0
PRODID:-//Erasmus University Rotterdam//Event calender//EN
X-WR-TIMEZONE:Europe/Amsterdam
X-WR-CALNAME:Erasmus University Rotterdam - Event calender
BEGIN:VTIMEZONE
TZID:Europe/Amsterdam
X-LIC-LOCATION:Europe/Amsterdam
BEGIN:DAYLIGHT
TZOFFSETFROM:+0100
TZOFFSETTO:+0200
TZNAME:CEST
DTSTART:19700329T020000
RRULE:FREQ=YEARLY;BYMONTH=3;BYDAY=-1SU
END:DAYLIGHT
BEGIN:STANDARD
TZOFFSETFROM:+0200
TZOFFSETTO:+0100
TZNAME:CET
DTSTART:19701025T030000
RRULE:FREQ=YEARLY;BYMONTH=10;BYDAY=-1SU
END:STANDARD
END:VTIMEZONE
BEGIN:VEVENT
DTSTART;TZID=Europe/Amsterdam:20200917T133024
DTEND;TZID=Europe/Amsterdam:20200917T150038
DTSTAMP:20260425T145050Z
UID:MTYwMDM0MjIyNF8xNjAwMzQ3NjM4X1Byb21vdGllIE0uUS5OLiAoTWFyaXNrYSkgSGFja2VydA==
SUMMARY:Promotie M.Q.N. (Mariska) Hackert
DESCRIPTION:For more information see https://www.eur.nl/evenementen/promotie-mqn-mariska-hackert-2020-09-17
LOCATION:Space: Senate Hall
END:VEVENT
END:VCALENDAR
