BEGIN:VCALENDAR
VERSION:2.0
PRODID:-//Erasmus University Rotterdam//Event calender//EN
X-WR-TIMEZONE:Europe/Amsterdam
X-WR-CALNAME:Erasmus University Rotterdam - Event calender
BEGIN:VTIMEZONE
TZID:Europe/Amsterdam
X-LIC-LOCATION:Europe/Amsterdam
BEGIN:DAYLIGHT
TZOFFSETFROM:+0100
TZOFFSETTO:+0200
TZNAME:CEST
DTSTART:19700329T020000
RRULE:FREQ=YEARLY;BYMONTH=3;BYDAY=-1SU
END:DAYLIGHT
BEGIN:STANDARD
TZOFFSETFROM:+0200
TZOFFSETTO:+0100
TZNAME:CET
DTSTART:19701025T030000
RRULE:FREQ=YEARLY;BYMONTH=10;BYDAY=-1SU
END:STANDARD
END:VTIMEZONE
BEGIN:VEVENT
DTSTART;TZID=Europe/Amsterdam:20201130T190018
DTEND;TZID=Europe/Amsterdam:20201130T210040
DTSTAMP:20260425T201327Z
UID:MTYwNjc1OTIxOF8xNjA2NzY2NDQwX0h1bnRpbmcgZm9yIEhlZG9uaWEgLSBJblNjaWVuY2UgMjAyMA==
SUMMARY:Hunting for Hedonia - InScience 2020
DESCRIPTION:Ga voor meer informatie naar https://www.eur.nl/evenementen/hunting-hedonia-inscience-2020-2020-11-30
LOCATION:Locatie: LantarenVenster, Otto Reuchlinweg 996, 3072 MD Rotterdam
END:VEVENT
END:VCALENDAR
