BEGIN:VCALENDAR
VERSION:2.0
PRODID:-//Erasmus University Rotterdam//Event calender//EN
X-WR-TIMEZONE:Europe/Amsterdam
X-WR-CALNAME:Erasmus University Rotterdam - Event calender
BEGIN:VTIMEZONE
TZID:Europe/Amsterdam
X-LIC-LOCATION:Europe/Amsterdam
BEGIN:DAYLIGHT
TZOFFSETFROM:+0100
TZOFFSETTO:+0200
TZNAME:CEST
DTSTART:19700329T020000
RRULE:FREQ=YEARLY;BYMONTH=3;BYDAY=-1SU
END:DAYLIGHT
BEGIN:STANDARD
TZOFFSETFROM:+0200
TZOFFSETTO:+0100
TZNAME:CET
DTSTART:19701025T030000
RRULE:FREQ=YEARLY;BYMONTH=10;BYDAY=-1SU
END:STANDARD
END:VTIMEZONE
BEGIN:VEVENT
DTSTART;TZID=Europe/Amsterdam:20210217T200019
DTEND;TZID=Europe/Amsterdam:20210217T213000
DTSTAMP:20260423T090210Z
UID:MTYxMzU4ODQxOV8xNjEzNTkzODAwX1N0b3AgTW90aW9uIHwgT25saW5lIEN1cnN1cw==
SUMMARY:Stop Motion | Online Cursus
DESCRIPTION:Ga voor meer informatie naar https://www.eur.nl/evenementen/stop-motion-online-cursus-2021-02-17
LOCATION:Locatie: Online
END:VEVENT
END:VCALENDAR
