BEGIN:VCALENDAR
VERSION:2.0
PRODID:-//Erasmus University Rotterdam//Event calender//EN
X-WR-TIMEZONE:Europe/Amsterdam
X-WR-CALNAME:Erasmus University Rotterdam - Event calender
BEGIN:VTIMEZONE
TZID:Europe/Amsterdam
X-LIC-LOCATION:Europe/Amsterdam
BEGIN:DAYLIGHT
TZOFFSETFROM:+0100
TZOFFSETTO:+0200
TZNAME:CEST
DTSTART:19700329T020000
RRULE:FREQ=YEARLY;BYMONTH=3;BYDAY=-1SU
END:DAYLIGHT
BEGIN:STANDARD
TZOFFSETFROM:+0200
TZOFFSETTO:+0100
TZNAME:CET
DTSTART:19701025T030000
RRULE:FREQ=YEARLY;BYMONTH=10;BYDAY=-1SU
END:STANDARD
END:VTIMEZONE
BEGIN:VEVENT
DTSTART;TZID=Europe/Amsterdam:20210921T203000
DTEND;TZID=Europe/Amsterdam:20210921T214500
DTSTAMP:20260423T221814Z
UID:MTYzMjI0OTAwMF8xNjMyMjUzNTAwX1N0dWRpbyBFcmFzbXVz
SUMMARY:Studio Erasmus
DESCRIPTION:Ga voor meer informatie naar https://www.eur.nl/evenementen/studio-erasmus-2021-09-21
LOCATION:Locatie: Arminius, Museumpark 3, 3015 CB Rotterdam
END:VEVENT
END:VCALENDAR
