BEGIN:VCALENDAR
VERSION:2.0
PRODID:-//Erasmus University Rotterdam//Event calender//EN
X-WR-TIMEZONE:Europe/Amsterdam
X-WR-CALNAME:Erasmus University Rotterdam - Event calender
BEGIN:VTIMEZONE
TZID:Europe/Amsterdam
X-LIC-LOCATION:Europe/Amsterdam
BEGIN:DAYLIGHT
TZOFFSETFROM:+0100
TZOFFSETTO:+0200
TZNAME:CEST
DTSTART:19700329T020000
RRULE:FREQ=YEARLY;BYMONTH=3;BYDAY=-1SU
END:DAYLIGHT
BEGIN:STANDARD
TZOFFSETFROM:+0200
TZOFFSETTO:+0100
TZNAME:CET
DTSTART:19701025T030000
RRULE:FREQ=YEARLY;BYMONTH=10;BYDAY=-1SU
END:STANDARD
END:VTIMEZONE
BEGIN:VEVENT
DTSTART;TZID=Europe/Amsterdam:20211021T120026
DTEND;TZID=Europe/Amsterdam:20211021T130032
DTSTAMP:20260426T021523Z
UID:MTYzNDgxMDQyNl8xNjM0ODE0MDMyX0dlbmRlciBhbmQgUGVyZm9ybWFuY2UgaW4gQ29sbGFib3JhdGl2ZSBSZXNlYXJjaA==
SUMMARY:Gender and Performance in Collaborative Research
DESCRIPTION:For more information see https://www.eur.nl/en/events/gender-and-performance-collaborative-research-2021-10-21
LOCATION:Room: Kitchen/hall on floor E1 | Building: E Building | Location: Campus Woudestein
END:VEVENT
END:VCALENDAR
