BEGIN:VCALENDAR
VERSION:2.0
PRODID:-//Erasmus University Rotterdam//Event calender//EN
X-WR-TIMEZONE:Europe/Amsterdam
X-WR-CALNAME:Erasmus University Rotterdam - Event calender
BEGIN:VTIMEZONE
TZID:Europe/Amsterdam
X-LIC-LOCATION:Europe/Amsterdam
BEGIN:DAYLIGHT
TZOFFSETFROM:+0100
TZOFFSETTO:+0200
TZNAME:CEST
DTSTART:19700329T020000
RRULE:FREQ=YEARLY;BYMONTH=3;BYDAY=-1SU
END:DAYLIGHT
BEGIN:STANDARD
TZOFFSETFROM:+0200
TZOFFSETTO:+0100
TZNAME:CET
DTSTART:19701025T030000
RRULE:FREQ=YEARLY;BYMONTH=10;BYDAY=-1SU
END:STANDARD
END:VTIMEZONE
BEGIN:VEVENT
DTSTART;TZID=Europe/Amsterdam:20220406T130000
DTEND;TZID=Europe/Amsterdam:20220406T214500
DTSTAMP:20260422T042122Z
UID:MTY0OTI0MjgwMF8xNjQ5Mjc0MzAwX0FsdW1uaSBEYXk=
SUMMARY:Alumni Day
DESCRIPTION:For more information see https://www.eur.nl/en/events/alumni-day-2022-04-06
LOCATION:Room: C-Hall | Building: Theil Building | Location: Drinks and Dinnner at Erasmus Pavilion
END:VEVENT
END:VCALENDAR
