BEGIN:VCALENDAR
VERSION:2.0
PRODID:-//Erasmus University Rotterdam//Event calender//EN
X-WR-TIMEZONE:Europe/Amsterdam
X-WR-CALNAME:Erasmus University Rotterdam - Event calender
BEGIN:VTIMEZONE
TZID:Europe/Amsterdam
X-LIC-LOCATION:Europe/Amsterdam
BEGIN:DAYLIGHT
TZOFFSETFROM:+0100
TZOFFSETTO:+0200
TZNAME:CEST
DTSTART:19700329T020000
RRULE:FREQ=YEARLY;BYMONTH=3;BYDAY=-1SU
END:DAYLIGHT
BEGIN:STANDARD
TZOFFSETFROM:+0200
TZOFFSETTO:+0100
TZNAME:CET
DTSTART:19701025T030000
RRULE:FREQ=YEARLY;BYMONTH=10;BYDAY=-1SU
END:STANDARD
END:VTIMEZONE
BEGIN:VEVENT
DTSTART;TZID=Europe/Amsterdam:20220119T160000
DTEND;TZID=Europe/Amsterdam:20220119T173000
DTSTAMP:20260423T083757Z
UID:MTY0MjYwNDQwMF8xNjQyNjA5ODAwX0ZhY3VsdHkgQ29sbG9xdWl1bSBWOiBLb25yYWQgT3R0
SUMMARY:Faculty Colloquium V: Konrad Ott
DESCRIPTION:Ga voor meer informatie naar https://www.eur.nl/evenementen/faculty-colloquium-v-konrad-ott-2022-01-19
LOCATION:Locatie: Via Zoom
END:VEVENT
END:VCALENDAR
