BEGIN:VCALENDAR
VERSION:2.0
PRODID:-//Erasmus University Rotterdam//Event calender//EN
X-WR-TIMEZONE:Europe/Amsterdam
X-WR-CALNAME:Erasmus University Rotterdam - Event calender
BEGIN:VTIMEZONE
TZID:Europe/Amsterdam
X-LIC-LOCATION:Europe/Amsterdam
BEGIN:DAYLIGHT
TZOFFSETFROM:+0100
TZOFFSETTO:+0200
TZNAME:CEST
DTSTART:19700329T020000
RRULE:FREQ=YEARLY;BYMONTH=3;BYDAY=-1SU
END:DAYLIGHT
BEGIN:STANDARD
TZOFFSETFROM:+0200
TZOFFSETTO:+0100
TZNAME:CET
DTSTART:19701025T030000
RRULE:FREQ=YEARLY;BYMONTH=10;BYDAY=-1SU
END:STANDARD
END:VTIMEZONE
BEGIN:VEVENT
DTSTART;TZID=Europe/Amsterdam:20220610T120000
DTEND;TZID=Europe/Amsterdam:20220610T130000
DTSTAMP:20260423T190212Z
UID:MTY1NDg1NTIwMF8xNjU0ODU4ODAwX1N0b2NoYXN0aWMgbW9kZWxpbmcgYW5kIGFsZ29yaXRobXMgZm9yIHRoZSBEeW5hbWljIFZlaGljbGUgUm91dGluZyBQcm9ibGVtIHdpdGggVXJnZW50IFRhc2tz
SUMMARY:Stochastic modeling and algorithms for the Dynamic Vehicle Routing Problem with Urgent Tasks
DESCRIPTION:For more information see https://www.eur.nl/en/events/stochastic-modeling-and-algorithms-dynamic-vehicle-routing-problem-urgent-tasks-2022-06-10
LOCATION:Room: 1-13 | Building: Sanders Building | Location: or online via Zoom
END:VEVENT
END:VCALENDAR
