BEGIN:VCALENDAR
VERSION:2.0
PRODID:-//Erasmus University Rotterdam//Event calender//EN
X-WR-TIMEZONE:Europe/Amsterdam
X-WR-CALNAME:Erasmus University Rotterdam - Event calender
BEGIN:VTIMEZONE
TZID:Europe/Amsterdam
X-LIC-LOCATION:Europe/Amsterdam
BEGIN:DAYLIGHT
TZOFFSETFROM:+0100
TZOFFSETTO:+0200
TZNAME:CEST
DTSTART:19700329T020000
RRULE:FREQ=YEARLY;BYMONTH=3;BYDAY=-1SU
END:DAYLIGHT
BEGIN:STANDARD
TZOFFSETFROM:+0200
TZOFFSETTO:+0100
TZNAME:CET
DTSTART:19701025T030000
RRULE:FREQ=YEARLY;BYMONTH=10;BYDAY=-1SU
END:STANDARD
END:VTIMEZONE
BEGIN:VEVENT
DTSTART;TZID=Europe/Amsterdam:20221005T090000
DTEND;TZID=Europe/Amsterdam:20221005T173000
DTSTAMP:20260421T083856Z
UID:MTY2NDk1MzIwMF8xNjY0OTgzODAwX0NvbmZlcmVuY2Ugb24gcHJvbW90aW5nIGFjYWRlbWljIGludGVncml0eQ==
SUMMARY:Conference on promoting academic integrity
DESCRIPTION:For more information see https://www.eur.nl/en/events/conference-promoting-academic-integrity-2022-10-05
LOCATION:Space: Forumzaal | Building: Van der Goot Building
END:VEVENT
END:VCALENDAR
