BEGIN:VCALENDAR
VERSION:2.0
PRODID:-//Erasmus University Rotterdam//Event calender//EN
X-WR-TIMEZONE:Europe/Amsterdam
X-WR-CALNAME:Erasmus University Rotterdam - Event calender
BEGIN:VTIMEZONE
TZID:Europe/Amsterdam
X-LIC-LOCATION:Europe/Amsterdam
BEGIN:DAYLIGHT
TZOFFSETFROM:+0100
TZOFFSETTO:+0200
TZNAME:CEST
DTSTART:19700329T020000
RRULE:FREQ=YEARLY;BYMONTH=3;BYDAY=-1SU
END:DAYLIGHT
BEGIN:STANDARD
TZOFFSETFROM:+0200
TZOFFSETTO:+0100
TZNAME:CET
DTSTART:19701025T030000
RRULE:FREQ=YEARLY;BYMONTH=10;BYDAY=-1SU
END:STANDARD
END:VTIMEZONE
BEGIN:VEVENT
DTSTART;TZID=Europe/Amsterdam:20221019T150000
DTEND;TZID=Europe/Amsterdam:20221019T160000
DTSTAMP:20260421T233425Z
UID:MTY2NjE4NDQwMF8xNjY2MTg4MDAwX0xpYnJhcnkgdGVhIHNlc3Npb246IE9wZW4gQWNjZXNzIEAgRVVS
SUMMARY:Library tea session: Open Access @ EUR
DESCRIPTION:For more information see https://www.eur.nl/evenementen/library-tea-session-open-access-eur-2022-10-19
LOCATION:
END:VEVENT
END:VCALENDAR
