BEGIN:VCALENDAR
VERSION:2.0
PRODID:-//Erasmus University Rotterdam//Event calender//EN
X-WR-TIMEZONE:Europe/Amsterdam
X-WR-CALNAME:Erasmus University Rotterdam - Event calender
BEGIN:VTIMEZONE
TZID:Europe/Amsterdam
X-LIC-LOCATION:Europe/Amsterdam
BEGIN:DAYLIGHT
TZOFFSETFROM:+0100
TZOFFSETTO:+0200
TZNAME:CEST
DTSTART:19700329T020000
RRULE:FREQ=YEARLY;BYMONTH=3;BYDAY=-1SU
END:DAYLIGHT
BEGIN:STANDARD
TZOFFSETFROM:+0200
TZOFFSETTO:+0100
TZNAME:CET
DTSTART:19701025T030000
RRULE:FREQ=YEARLY;BYMONTH=10;BYDAY=-1SU
END:STANDARD
END:VTIMEZONE
BEGIN:VEVENT
DTSTART;TZID=Europe/Amsterdam:20221014T090000
DTEND;TZID=Europe/Amsterdam:20221014T180000
DTSTAMP:20260425T195942Z
UID:MTY2NTczMDgwMF8xNjY1NzYzMjAwX0VDRUZHIENvbXBldGl0aW9uIFBvbGljeSBXb3Jrc2hvcCAyMDIy
SUMMARY:ECEFG Competition Policy Workshop 2022
DESCRIPTION:For more information see https://www.eur.nl/en/events/ecefg-competition-policy-workshop-2022-2022-10-14
LOCATION:Location: Novotel Brainpark Rotterdam
END:VEVENT
END:VCALENDAR
