BEGIN:VCALENDAR
VERSION:2.0
PRODID:-//Erasmus University Rotterdam//Event calender//EN
X-WR-TIMEZONE:Europe/Amsterdam
X-WR-CALNAME:Erasmus University Rotterdam - Event calender
BEGIN:VTIMEZONE
TZID:Europe/Amsterdam
X-LIC-LOCATION:Europe/Amsterdam
BEGIN:DAYLIGHT
TZOFFSETFROM:+0100
TZOFFSETTO:+0200
TZNAME:CEST
DTSTART:19700329T020000
RRULE:FREQ=YEARLY;BYMONTH=3;BYDAY=-1SU
END:DAYLIGHT
BEGIN:STANDARD
TZOFFSETFROM:+0200
TZOFFSETTO:+0100
TZNAME:CET
DTSTART:19701025T030000
RRULE:FREQ=YEARLY;BYMONTH=10;BYDAY=-1SU
END:STANDARD
END:VTIMEZONE
BEGIN:VEVENT
DTSTART;TZID=Europe/Amsterdam:20221209T183000
DTEND;TZID=Europe/Amsterdam:20221209T194500
DTSTAMP:20260424T045118Z
UID:MTY3MDYwNzAwMF8xNjcwNjExNTAwX1dJTERlIHByZXNlbnRzOiBUaGUgVGFsZSBvZiBUcmVtc2lu
SUMMARY:WILDe presents: The Tale of Tremsin
DESCRIPTION:Ga voor meer informatie naar https://www.eur.nl/evenementen/wilde-presents-tale-tremsin-2022-12-09
LOCATION:Locatie: Erasmus Paviljoen
END:VEVENT
END:VCALENDAR
