BEGIN:VCALENDAR
VERSION:2.0
PRODID:-//Erasmus University Rotterdam//Event calender//EN
X-WR-TIMEZONE:Europe/Amsterdam
X-WR-CALNAME:Erasmus University Rotterdam - Event calender
BEGIN:VTIMEZONE
TZID:Europe/Amsterdam
X-LIC-LOCATION:Europe/Amsterdam
BEGIN:DAYLIGHT
TZOFFSETFROM:+0100
TZOFFSETTO:+0200
TZNAME:CEST
DTSTART:19700329T020000
RRULE:FREQ=YEARLY;BYMONTH=3;BYDAY=-1SU
END:DAYLIGHT
BEGIN:STANDARD
TZOFFSETFROM:+0200
TZOFFSETTO:+0100
TZNAME:CET
DTSTART:19701025T030000
RRULE:FREQ=YEARLY;BYMONTH=10;BYDAY=-1SU
END:STANDARD
END:VTIMEZONE
BEGIN:VEVENT
DTSTART;TZID=Europe/Amsterdam:20230223T134500
DTEND;TZID=Europe/Amsterdam:20230223T170000
DTSTAMP:20260422T011254Z
UID:MTY3NzE1NjMwMF8xNjc3MTY4MDAwX01pam4gU3RhZCBSb3R0ZXJkYW06IEluIGdlc3ByZWsgb3ZlciB2b29ydWl0Z2FuZw==
SUMMARY:Mijn Stad Rotterdam: In gesprek over vooruitgang
DESCRIPTION:For more information see https://www.eur.nl/evenementen/mijn-stad-rotterdam-gesprek-over-vooruitgang-2023-02-23
LOCATION:Room: Theaterzaal | Space: Erasmus Pavilion
END:VEVENT
END:VCALENDAR
