BEGIN:VCALENDAR
VERSION:2.0
PRODID:-//Erasmus University Rotterdam//Event calender//EN
X-WR-TIMEZONE:Europe/Amsterdam
X-WR-CALNAME:Erasmus University Rotterdam - Event calender
BEGIN:VTIMEZONE
TZID:Europe/Amsterdam
X-LIC-LOCATION:Europe/Amsterdam
BEGIN:DAYLIGHT
TZOFFSETFROM:+0100
TZOFFSETTO:+0200
TZNAME:CEST
DTSTART:19700329T020000
RRULE:FREQ=YEARLY;BYMONTH=3;BYDAY=-1SU
END:DAYLIGHT
BEGIN:STANDARD
TZOFFSETFROM:+0200
TZOFFSETTO:+0100
TZNAME:CET
DTSTART:19701025T030000
RRULE:FREQ=YEARLY;BYMONTH=10;BYDAY=-1SU
END:STANDARD
END:VTIMEZONE
BEGIN:VEVENT
DTSTART;TZID=Europe/Amsterdam:20230224T160000
DTEND;TZID=Europe/Amsterdam:20230224T180000
DTSTAMP:20260420T060535Z
UID:MTY3NzI1MDgwMF8xNjc3MjU4MDAwX0Fmc2NoZWlkc3JlZGUgUHJvZi5kci4gRS5LLkEuIChFZGR5KSBWYW4gRG9vcnNsYWVy
SUMMARY:Afscheidsrede Prof.dr. E.K.A. (Eddy) Van Doorslaer
DESCRIPTION:Ga voor meer informatie naar https://www.eur.nl/evenementen/afscheidsrede-profdr-eka-eddy-van-doorslaer-2023-02-24
LOCATION:Spatie: Aula | Gebouw: Erasmus Gebouw | Locatie: Campus Woudestein
END:VEVENT
END:VCALENDAR
