BEGIN:VCALENDAR
VERSION:2.0
PRODID:-//Erasmus University Rotterdam//Event calender//EN
X-WR-TIMEZONE:Europe/Amsterdam
X-WR-CALNAME:Erasmus University Rotterdam - Event calender
BEGIN:VTIMEZONE
TZID:Europe/Amsterdam
X-LIC-LOCATION:Europe/Amsterdam
BEGIN:DAYLIGHT
TZOFFSETFROM:+0100
TZOFFSETTO:+0200
TZNAME:CEST
DTSTART:19700329T020000
RRULE:FREQ=YEARLY;BYMONTH=3;BYDAY=-1SU
END:DAYLIGHT
BEGIN:STANDARD
TZOFFSETFROM:+0200
TZOFFSETTO:+0100
TZNAME:CET
DTSTART:19701025T030000
RRULE:FREQ=YEARLY;BYMONTH=10;BYDAY=-1SU
END:STANDARD
END:VTIMEZONE
BEGIN:VEVENT
DTSTART;TZID=Europe/Amsterdam:20231004T120000
DTEND;TZID=Europe/Amsterdam:20231004T133000
DTSTAMP:20260423T083756Z
UID:MTY5NjQxMzYwMF8xNjk2NDE5MDAwX1N0dWRlbnRzIGluIHRoZSBzcG90bGlnaHQ6IGEgc3R1ZGVudCBwYW5lbCBvbiBpbXBhY3QtZHJpdmVuIGVkdWNhdGlvbiBhdCBFVVIg
SUMMARY:Students in the spotlight: a student panel on impact-driven education at EUR 
DESCRIPTION:Ga voor meer informatie naar https://www.eur.nl/evenementen/students-spotlight-student-panel-impact-driven-education-eur-2023-10-04
LOCATION:Locatie: Q-building
END:VEVENT
END:VCALENDAR
