BEGIN:VCALENDAR
VERSION:2.0
PRODID:-//Erasmus University Rotterdam//Event calender//EN
X-WR-TIMEZONE:Europe/Amsterdam
X-WR-CALNAME:Erasmus University Rotterdam - Event calender
BEGIN:VTIMEZONE
TZID:Europe/Amsterdam
X-LIC-LOCATION:Europe/Amsterdam
BEGIN:DAYLIGHT
TZOFFSETFROM:+0100
TZOFFSETTO:+0200
TZNAME:CEST
DTSTART:19700329T020000
RRULE:FREQ=YEARLY;BYMONTH=3;BYDAY=-1SU
END:DAYLIGHT
BEGIN:STANDARD
TZOFFSETFROM:+0200
TZOFFSETTO:+0100
TZNAME:CET
DTSTART:19701025T030000
RRULE:FREQ=YEARLY;BYMONTH=10;BYDAY=-1SU
END:STANDARD
END:VTIMEZONE
BEGIN:VEVENT
DTSTART;TZID=Europe/Amsterdam:20231006T160000
DTEND;TZID=Europe/Amsterdam:20231006T180000
DTSTAMP:20260425T185941Z
UID:MTY5NjYwMDgwMF8xNjk2NjA4MDAwX0Fmc2NoZWlkc3JlZGUgUHJvZi5kci5pbmcuIEcuUi4gKEdlZXJ0KSBUZWlzbWFu
SUMMARY:Afscheidsrede Prof.dr.ing. G.R. (Geert) Teisman
DESCRIPTION:Ga voor meer informatie naar https://www.eur.nl/evenementen/afscheidsrede-profdring-gr-geert-teisman-2023-10-06
LOCATION:Spatie: Aula | Gebouw: Erasmus Gebouw | Locatie: Campus Woudestein
END:VEVENT
END:VCALENDAR
