BEGIN:VCALENDAR
VERSION:2.0
PRODID:-//Erasmus University Rotterdam//Event calender//EN
X-WR-TIMEZONE:Europe/Amsterdam
X-WR-CALNAME:Erasmus University Rotterdam - Event calender
BEGIN:VTIMEZONE
TZID:Europe/Amsterdam
X-LIC-LOCATION:Europe/Amsterdam
BEGIN:DAYLIGHT
TZOFFSETFROM:+0100
TZOFFSETTO:+0200
TZNAME:CEST
DTSTART:19700329T020000
RRULE:FREQ=YEARLY;BYMONTH=3;BYDAY=-1SU
END:DAYLIGHT
BEGIN:STANDARD
TZOFFSETFROM:+0200
TZOFFSETTO:+0100
TZNAME:CET
DTSTART:19701025T030000
RRULE:FREQ=YEARLY;BYMONTH=10;BYDAY=-1SU
END:STANDARD
END:VTIMEZONE
BEGIN:VEVENT
DTSTART;TZID=Europe/Amsterdam:20231120T113000
DTEND;TZID=Europe/Amsterdam:20231120T123000
DTSTAMP:20260424T103823Z
UID:MTcwMDQ3NjIwMF8xNzAwNDc5ODAwX0hvdyBkbyBTdHVkZW50cyBSZXNwb25kIHRvIFBhcnRpYWwgSW5mb3JtYXRpb24gb24gR3JhZHVhdGlvbiBDaGFuY2VzPyA=
SUMMARY:How do Students Respond to Partial Information on Graduation Chances? 
DESCRIPTION:For more information see https://www.eur.nl/en/events/how-do-students-respond-partial-information-graduation-chances-2023-11-20
LOCATION:Room: 3-18 | Building: Polak Building
END:VEVENT
END:VCALENDAR
