BEGIN:VCALENDAR
VERSION:2.0
PRODID:-//Erasmus University Rotterdam//Event calender//EN
X-WR-TIMEZONE:Europe/Amsterdam
X-WR-CALNAME:Erasmus University Rotterdam - Event calender
BEGIN:VTIMEZONE
TZID:Europe/Amsterdam
X-LIC-LOCATION:Europe/Amsterdam
BEGIN:DAYLIGHT
TZOFFSETFROM:+0100
TZOFFSETTO:+0200
TZNAME:CEST
DTSTART:19700329T020000
RRULE:FREQ=YEARLY;BYMONTH=3;BYDAY=-1SU
END:DAYLIGHT
BEGIN:STANDARD
TZOFFSETFROM:+0200
TZOFFSETTO:+0100
TZNAME:CET
DTSTART:19701025T030000
RRULE:FREQ=YEARLY;BYMONTH=10;BYDAY=-1SU
END:STANDARD
END:VTIMEZONE
BEGIN:VEVENT
DTSTART;TZID=Europe/Amsterdam:20240229T090000
DTEND;TZID=Europe/Amsterdam:20240301T180000
DTSTAMP:20260426T000930Z
UID:MTcwOTE5MzYwMF8xNzA5MzEyNDAwX0ludGVybmF0aW9uYWwgV29ya3Nob3Agb24gUHN5Y2hvbWV0cmljIENvbXB1dGluZyAoUHN5Y2hvY28pIDIwMjQ=
SUMMARY:International Workshop on Psychometric Computing (Psychoco) 2024
DESCRIPTION:For more information see https://www.eur.nl/en/events/international-workshop-psychometric-computing-psychoco-2024-2024-02-29
LOCATION:Room: 29 Feb: Sanders Building, room 0.03 | 1 March: Van der Goot Building, room M1-19 | Building: Sanders Building | Location: Campus Woudestein
END:VEVENT
END:VCALENDAR
