BEGIN:VCALENDAR
VERSION:2.0
PRODID:-//Erasmus University Rotterdam//Event calender//EN
X-WR-TIMEZONE:Europe/Amsterdam
X-WR-CALNAME:Erasmus University Rotterdam - Event calender
BEGIN:VTIMEZONE
TZID:Europe/Amsterdam
X-LIC-LOCATION:Europe/Amsterdam
BEGIN:DAYLIGHT
TZOFFSETFROM:+0100
TZOFFSETTO:+0200
TZNAME:CEST
DTSTART:19700329T020000
RRULE:FREQ=YEARLY;BYMONTH=3;BYDAY=-1SU
END:DAYLIGHT
BEGIN:STANDARD
TZOFFSETFROM:+0200
TZOFFSETTO:+0100
TZNAME:CET
DTSTART:19701025T030000
RRULE:FREQ=YEARLY;BYMONTH=10;BYDAY=-1SU
END:STANDARD
END:VTIMEZONE
BEGIN:VEVENT
DTSTART;TZID=Europe/Amsterdam:20240305T130000
DTEND;TZID=Europe/Amsterdam:20240305T143000
DTSTAMP:20260426T021716Z
UID:MTcwOTY0MDAwMF8xNzA5NjQ1NDAwX1Byb21vdGllIEMuRC4gKENoYW50YWwpIFRhbiA=
SUMMARY:Promotie C.D. (Chantal) Tan 
DESCRIPTION:For more information see https://www.eur.nl/evenementen/promotie-cd-chantal-tan-2024-03-05
LOCATION:Space: Professor Andries Querido room | Building: Education Center | Location: Erasmus MC
END:VEVENT
END:VCALENDAR
