BEGIN:VCALENDAR
VERSION:2.0
PRODID:-//Erasmus University Rotterdam//Event calender//EN
X-WR-TIMEZONE:Europe/Amsterdam
X-WR-CALNAME:Erasmus University Rotterdam - Event calender
BEGIN:VTIMEZONE
TZID:Europe/Amsterdam
X-LIC-LOCATION:Europe/Amsterdam
BEGIN:DAYLIGHT
TZOFFSETFROM:+0100
TZOFFSETTO:+0200
TZNAME:CEST
DTSTART:19700329T020000
RRULE:FREQ=YEARLY;BYMONTH=3;BYDAY=-1SU
END:DAYLIGHT
BEGIN:STANDARD
TZOFFSETFROM:+0200
TZOFFSETTO:+0100
TZNAME:CET
DTSTART:19701025T030000
RRULE:FREQ=YEARLY;BYMONTH=10;BYDAY=-1SU
END:STANDARD
END:VTIMEZONE
BEGIN:VEVENT
DTSTART;TZID=Europe/Amsterdam:20240315T130000
DTEND;TZID=Europe/Amsterdam:20240315T143000
DTSTAMP:20260420T020139Z
UID:MTcxMDUwNDAwMF8xNzEwNTA5NDAwX1Byb21vdGllIEUuRi5NLiAoRWxza2UpIHZhbiBkZW4gSG9vZ2Vu
SUMMARY:Promotie E.F.M. (Elske) van den Hoogen
DESCRIPTION:For more information see https://www.eur.nl/evenementen/promotie-efm-elske-van-den-hoogen-2024-03-15
LOCATION:Space: Senate Hall | Building: Erasmus Building | Location: Campus Woudestein
END:VEVENT
END:VCALENDAR
