BEGIN:VCALENDAR
VERSION:2.0
PRODID:-//Erasmus University Rotterdam//Event calender//EN
X-WR-TIMEZONE:Europe/Amsterdam
X-WR-CALNAME:Erasmus University Rotterdam - Event calender
BEGIN:VTIMEZONE
TZID:Europe/Amsterdam
X-LIC-LOCATION:Europe/Amsterdam
BEGIN:DAYLIGHT
TZOFFSETFROM:+0100
TZOFFSETTO:+0200
TZNAME:CEST
DTSTART:19700329T020000
RRULE:FREQ=YEARLY;BYMONTH=3;BYDAY=-1SU
END:DAYLIGHT
BEGIN:STANDARD
TZOFFSETFROM:+0200
TZOFFSETTO:+0100
TZNAME:CET
DTSTART:19701025T030000
RRULE:FREQ=YEARLY;BYMONTH=10;BYDAY=-1SU
END:STANDARD
END:VTIMEZONE
BEGIN:VEVENT
DTSTART;TZID=Europe/Amsterdam:20240626T123000
DTEND;TZID=Europe/Amsterdam:20240626T170000
DTSTAMP:20260420T125052Z
UID:MTcxOTM5NzgwMF8xNzE5NDE0MDAwX01pbmQgVGhlIEdhcA==
SUMMARY:Mind The Gap
DESCRIPTION:Ga voor meer informatie naar https://www.eur.nl/evenementen/mind-gap-2024-06-26
LOCATION:Gebouw: Theil Building | Locatie: Campus Woudestein
END:VEVENT
END:VCALENDAR
