BEGIN:VCALENDAR
VERSION:2.0
PRODID:-//Erasmus University Rotterdam//Event calender//EN
X-WR-TIMEZONE:Europe/Amsterdam
X-WR-CALNAME:Erasmus University Rotterdam - Event calender
BEGIN:VTIMEZONE
TZID:Europe/Amsterdam
X-LIC-LOCATION:Europe/Amsterdam
BEGIN:DAYLIGHT
TZOFFSETFROM:+0100
TZOFFSETTO:+0200
TZNAME:CEST
DTSTART:19700329T020000
RRULE:FREQ=YEARLY;BYMONTH=3;BYDAY=-1SU
END:DAYLIGHT
BEGIN:STANDARD
TZOFFSETFROM:+0200
TZOFFSETTO:+0100
TZNAME:CET
DTSTART:19701025T030000
RRULE:FREQ=YEARLY;BYMONTH=10;BYDAY=-1SU
END:STANDARD
END:VTIMEZONE
BEGIN:VEVENT
DTSTART;TZID=Europe/Amsterdam:20260303T133000
DTEND;TZID=Europe/Amsterdam:20260303T183000
DTSTAMP:20260421T054156Z
UID:MTc3MjU0MTAwMF8xNzcyNTU5MDAwX0tpY2stc3RhcnQgeW91ciBjYXJlZXI=
SUMMARY:Kick-start your career
DESCRIPTION:For more information see https://www.eur.nl/en/events/kick-start-your-career-2026-03-03
LOCATION:Building: Senate Hall | Location: Campus Woudestein
END:VEVENT
END:VCALENDAR
