BEGIN:VCALENDAR
VERSION:2.0
PRODID:-//Erasmus University Rotterdam//Event calender//EN
X-WR-TIMEZONE:Europe/Amsterdam
X-WR-CALNAME:Erasmus University Rotterdam - Event calender
BEGIN:VTIMEZONE
TZID:Europe/Amsterdam
X-LIC-LOCATION:Europe/Amsterdam
BEGIN:DAYLIGHT
TZOFFSETFROM:+0100
TZOFFSETTO:+0200
TZNAME:CEST
DTSTART:19700329T020000
RRULE:FREQ=YEARLY;BYMONTH=3;BYDAY=-1SU
END:DAYLIGHT
BEGIN:STANDARD
TZOFFSETFROM:+0200
TZOFFSETTO:+0100
TZNAME:CET
DTSTART:19701025T030000
RRULE:FREQ=YEARLY;BYMONTH=10;BYDAY=-1SU
END:STANDARD
END:VTIMEZONE
BEGIN:VEVENT
DTSTART;TZID=Europe/Amsterdam:20250702T113000
DTEND;TZID=Europe/Amsterdam:20250702T133000
DTSTAMP:20260421T073935Z
UID:MTc1MTQ0ODYwMF8xNzUxNDU1ODAwX1NwYXJrIFNlc3Npb246IERyYXdpbmcgYXMgYSB0b29sIGZvciB0ZWFjaGluZyA=
SUMMARY:Spark Session: Drawing as a tool for teaching 
DESCRIPTION:Ga voor meer informatie naar https://www.eur.nl/evenementen/spark-session-drawing-tool-teaching-2025-07-02
LOCATION:Spatie: Education Lab
END:VEVENT
END:VCALENDAR
