BEGIN:VCALENDAR
VERSION:2.0
PRODID:-//Erasmus University Rotterdam//Event calender//EN
X-WR-TIMEZONE:Europe/Amsterdam
X-WR-CALNAME:Erasmus University Rotterdam - Event calender
BEGIN:VTIMEZONE
TZID:Europe/Amsterdam
X-LIC-LOCATION:Europe/Amsterdam
BEGIN:DAYLIGHT
TZOFFSETFROM:+0100
TZOFFSETTO:+0200
TZNAME:CEST
DTSTART:19700329T020000
RRULE:FREQ=YEARLY;BYMONTH=3;BYDAY=-1SU
END:DAYLIGHT
BEGIN:STANDARD
TZOFFSETFROM:+0200
TZOFFSETTO:+0100
TZNAME:CET
DTSTART:19701025T030000
RRULE:FREQ=YEARLY;BYMONTH=10;BYDAY=-1SU
END:STANDARD
END:VTIMEZONE
BEGIN:VEVENT
DTSTART;TZID=Europe/Amsterdam:20260512T120000
DTEND;TZID=Europe/Amsterdam:20260512T130000
DTSTAMP:20260419T154830Z
UID:MTc3ODU4MDAwMF8xNzc4NTgzNjAwX0VTU0IgQ09OTkVDVCBtZW50b3Jwcm9ncmFtOiBNYWtpbmcgU3R1ZGVudCBMaWZlIEVhc2llciB8IENMSSBMdW5jaCAmIExlYXJu
SUMMARY:ESSB CONNECT mentorprogram: Making Student Life Easier | CLI Lunch &amp; Learn
DESCRIPTION:Ga voor meer informatie naar https://www.eur.nl/evenementen/essb-connect-mentorprogram-making-student-life-easier-cli-lunch-learn-2026-05-12
LOCATION:Spatie: Education Lab
END:VEVENT
END:VCALENDAR
