BEGIN:VCALENDAR
VERSION:2.0
PRODID:-//Erasmus University Rotterdam//Event calender//EN
X-WR-TIMEZONE:Europe/Amsterdam
X-WR-CALNAME:Erasmus University Rotterdam - Event calender
BEGIN:VTIMEZONE
TZID:Europe/Amsterdam
X-LIC-LOCATION:Europe/Amsterdam
BEGIN:DAYLIGHT
TZOFFSETFROM:+0100
TZOFFSETTO:+0200
TZNAME:CEST
DTSTART:19700329T020000
RRULE:FREQ=YEARLY;BYMONTH=3;BYDAY=-1SU
END:DAYLIGHT
BEGIN:STANDARD
TZOFFSETFROM:+0200
TZOFFSETTO:+0100
TZNAME:CET
DTSTART:19701025T030000
RRULE:FREQ=YEARLY;BYMONTH=10;BYDAY=-1SU
END:STANDARD
END:VTIMEZONE
BEGIN:VEVENT
DTSTART;TZID=Europe/Amsterdam:20250827T130000
DTEND;TZID=Europe/Amsterdam:20250827T143000
DTSTAMP:20260422T093106Z
UID:MTc1NjI5MjQwMF8xNzU2Mjk3ODAwX1Byb21vdGllIEUuSi4gKEVuY2hlbmcpIEpp
SUMMARY:Promotie E.J. (Encheng) Ji
DESCRIPTION:For more information see https://www.eur.nl/evenementen/promotie-ej-encheng-ji-2025-08-27
LOCATION:Space: Professor Andries Querido room | Building: Education Center | Location: Erasmus MC
END:VEVENT
END:VCALENDAR
