BEGIN:VCALENDAR
VERSION:2.0
PRODID:-//Erasmus University Rotterdam//Event calender//EN
X-WR-TIMEZONE:Europe/Amsterdam
X-WR-CALNAME:Erasmus University Rotterdam - Event calender
BEGIN:VTIMEZONE
TZID:Europe/Amsterdam
X-LIC-LOCATION:Europe/Amsterdam
BEGIN:DAYLIGHT
TZOFFSETFROM:+0100
TZOFFSETTO:+0200
TZNAME:CEST
DTSTART:19700329T020000
RRULE:FREQ=YEARLY;BYMONTH=3;BYDAY=-1SU
END:DAYLIGHT
BEGIN:STANDARD
TZOFFSETFROM:+0200
TZOFFSETTO:+0100
TZNAME:CET
DTSTART:19701025T030000
RRULE:FREQ=YEARLY;BYMONTH=10;BYDAY=-1SU
END:STANDARD
END:VTIMEZONE
BEGIN:VEVENT
DTSTART;TZID=Europe/Amsterdam:20251007T130000
DTEND;TZID=Europe/Amsterdam:20251007T141500
DTSTAMP:20260421T065037Z
UID:MTc1OTgzNDgwMF8xNzU5ODM5MzAwX0Nvb3BlcmF0aW9uIGluIHRoZSBXb3JrcGxhY2U6IEV4cGVyaW1lbnRhbCBFdmlkZW5jZSBmcm9tIEtub3dsZWRnZSBXb3JrZXJz
SUMMARY:Cooperation in the Workplace: Experimental Evidence from Knowledge Workers
DESCRIPTION:For more information see https://www.eur.nl/en/events/cooperation-workplace-experimental-evidence-knowledge-workers-2025-10-07
LOCATION:Room: Polak 1.21
END:VEVENT
END:VCALENDAR
