BEGIN:VCALENDAR
VERSION:2.0
PRODID:-//Erasmus University Rotterdam//Event calender//EN
X-WR-TIMEZONE:Europe/Amsterdam
X-WR-CALNAME:Erasmus University Rotterdam - Event calender
BEGIN:VTIMEZONE
TZID:Europe/Amsterdam
X-LIC-LOCATION:Europe/Amsterdam
BEGIN:DAYLIGHT
TZOFFSETFROM:+0100
TZOFFSETTO:+0200
TZNAME:CEST
DTSTART:19700329T020000
RRULE:FREQ=YEARLY;BYMONTH=3;BYDAY=-1SU
END:DAYLIGHT
BEGIN:STANDARD
TZOFFSETFROM:+0200
TZOFFSETTO:+0100
TZNAME:CET
DTSTART:19701025T030000
RRULE:FREQ=YEARLY;BYMONTH=10;BYDAY=-1SU
END:STANDARD
END:VTIMEZONE
BEGIN:VEVENT
DTSTART;TZID=Europe/Amsterdam:20251021T120000
DTEND;TZID=Europe/Amsterdam:20251021T133000
DTSTAMP:20260420T024520Z
UID:MTc2MTA0MDgwMF8xNzYxMDQ2MjAwX0luY2VudGl2aXppbmcgdGhlIENvbnRlbnQgQ3JlYXRvciBXaGVuIFRhc2tzIENhbiBCZSBEZWxlZ2F0ZWQgdG8gQXJ0aWZpY2lhbCBJbnRlbGxpZ2VuY2U=
SUMMARY:Incentivizing the Content Creator When Tasks Can Be Delegated to Artificial Intelligence
DESCRIPTION:For more information see https://www.eur.nl/en/events/incentivizing-content-creator-when-tasks-can-be-delegated-artificial-intelligence-2025-10-21
LOCATION:Room: T09-67 or join via Teams using the link below
END:VEVENT
END:VCALENDAR
